BEGIN:VCALENDAR
VERSION:2.0
PRODID:-//wp-events-plugin.com//6.5//EN
TZID:America/Los_Angeles
X-WR-TIMEZONE:America/Los_Angeles
BEGIN:VEVENT
UID:47-6252@orangecounty.swea.org
DTSTART;TZID=America/Los_Angeles:20241124T103000
DTEND;TZID=America/Los_Angeles:20241124T160000
DTSTAMP:20241024T172410Z
URL:https://orangecounty.swea.org/events/swea-ocs-julmarknad-2/
SUMMARY:SWEA OCs Julmarknad
DESCRIPTION:Julmarknaden i Old World\, vår största fundraiser för året!
ATTACH;FMTTYPE=image/jpeg:https://orangecounty.swea.org/wp-content/uploads
 /sites/47/2024/08/nissar.png
LOCATION:Old World\, 7561 Center Ave. #49\,  Huntington Beach\, CA\,  92647
 \, Förenta staterna
X-APPLE-STRUCTURED-LOCATION;VALUE=URI;X-ADDRESS=7561 Center Ave. #49\,  Hun
 tington Beach\, CA\,  92647\, Förenta staterna;X-APPLE-RADIUS=100;X-TITLE
 =Old World:geo:0,0
END:VEVENT
BEGIN:VTIMEZONE
TZID:America/Los_Angeles
X-LIC-LOCATION:America/Los_Angeles
BEGIN:STANDARD
DTSTART:20241103T010000
TZOFFSETFROM:-0700
TZOFFSETTO:-0800
TZNAME:PST
END:STANDARD
END:VTIMEZONE
END:VCALENDAR