BEGIN:VCALENDAR
VERSION:2.0
PRODID:-//wp-events-plugin.com//6.5//EN
TZID:America/Los_Angeles
X-WR-TIMEZONE:America/Los_Angeles
BEGIN:VEVENT
UID:47-725@orangecounty.swea.org
DTSTART;TZID=America/Los_Angeles;VALUE=DATE:20220701
DTEND;TZID=America/Los_Angeles;VALUE=DATE:20220702
DTSTAMP:20220701T054843Z
URL:https://orangecounty.swea.org/events/test/
SUMMARY:test
DESCRIPTION:
END:VEVENT
BEGIN:VTIMEZONE
TZID:America/Los_Angeles
X-LIC-LOCATION:America/Los_Angeles
BEGIN:DAYLIGHT
DTSTART:20220313T030000
TZOFFSETFROM:-0800
TZOFFSETTO:-0700
TZNAME:PDT
END:DAYLIGHT
END:VTIMEZONE
END:VCALENDAR